BEGIN:VCALENDAR
VERSION:2.0
PRODID:-//Wattsmart Home - ECPv6.15.20//NONSGML v1.0//EN
CALSCALE:GREGORIAN
METHOD:PUBLISH
X-ORIGINAL-URL:https://wattsmarthomes.com
X-WR-CALDESC:Events for Wattsmart Home
REFRESH-INTERVAL;VALUE=DURATION:PT1H
X-Robots-Tag:noindex
X-PUBLISHED-TTL:PT1H
BEGIN:VTIMEZONE
TZID:America/Los_Angeles
BEGIN:DAYLIGHT
TZOFFSETFROM:-0800
TZOFFSETTO:-0700
TZNAME:PDT
DTSTART:20240310T100000
END:DAYLIGHT
BEGIN:STANDARD
TZOFFSETFROM:-0700
TZOFFSETTO:-0800
TZNAME:PST
DTSTART:20241103T090000
END:STANDARD
BEGIN:DAYLIGHT
TZOFFSETFROM:-0800
TZOFFSETTO:-0700
TZNAME:PDT
DTSTART:20250309T100000
END:DAYLIGHT
BEGIN:STANDARD
TZOFFSETFROM:-0700
TZOFFSETTO:-0800
TZNAME:PST
DTSTART:20251102T090000
END:STANDARD
BEGIN:DAYLIGHT
TZOFFSETFROM:-0800
TZOFFSETTO:-0700
TZNAME:PDT
DTSTART:20260308T100000
END:DAYLIGHT
BEGIN:STANDARD
TZOFFSETFROM:-0700
TZOFFSETTO:-0800
TZNAME:PST
DTSTART:20261101T090000
END:STANDARD
END:VTIMEZONE
BEGIN:VEVENT
DTSTART;TZID=America/Los_Angeles:20250704T080000
DTEND;TZID=America/Los_Angeles:20250704T081500
DTSTAMP:20260423T034207
CREATED:20240910T152350Z
LAST-MODIFIED:20240910T152350Z
UID:10000055-1751616000-1751616900@wattsmarthomes.com
SUMMARY:EV Time of Use Rate Holiday
DESCRIPTION:In honor of Independence Day\, all hours of July 4\, 2025\, will be considered off peak for the EV Time of Use rate.
URL:https://wattsmarthomes.com/event/ev-time-of-use-rate-holiday-6/
CATEGORIES:Household Maintenance
ATTACH;FMTTYPE=image/jpeg:https://wattsmarthomes.com/wp-content/uploads/2024/09/Fall-Interactive-Calendar-Images-09-09-202412-scaled.jpg
END:VEVENT
BEGIN:VEVENT
DTSTART;TZID=America/Los_Angeles:20250705T080000
DTEND;TZID=America/Los_Angeles:20250705T081500
DTSTAMP:20260423T034207
CREATED:20240507T200415Z
LAST-MODIFIED:20250311T191049Z
UID:10000036-1751702400-1751703300@wattsmarthomes.com
SUMMARY:Grill or Microwave More Often
DESCRIPTION:Cook on a grill or microwave more often to reduce indoor heat and use ENERGY STAR® certified appliances
URL:https://wattsmarthomes.com/event/grill-or-microwave-more-often/
CATEGORIES:Household Maintenance
ATTACH;FMTTYPE=image/png:https://wattsmarthomes.com/wp-content/uploads/2024/05/0705.png
END:VEVENT
BEGIN:VEVENT
DTSTART;TZID=America/Los_Angeles:20250719T080000
DTEND;TZID=America/Los_Angeles:20250719T081500
DTSTAMP:20260423T034207
CREATED:20240507T202342Z
LAST-MODIFIED:20250311T191356Z
UID:10000037-1752912000-1752912900@wattsmarthomes.com
SUMMARY:Install Solar Screens\, Blinds or Curtains
DESCRIPTION:Install solar screens\, blinds or curtains to block out the sun’s rays and keep your home cooler.
URL:https://wattsmarthomes.com/event/install-solar-screens-blinds-or-curtains/
CATEGORIES:Household Maintenance
ATTACH;FMTTYPE=image/png:https://wattsmarthomes.com/wp-content/uploads/2024/05/0719.png
END:VEVENT
BEGIN:VEVENT
DTSTART;TZID=America/Los_Angeles:20250724T080000
DTEND;TZID=America/Los_Angeles:20250724T081500
DTSTAMP:20260423T034207
CREATED:20240910T152517Z
LAST-MODIFIED:20240910T152527Z
UID:10000056-1753344000-1753344900@wattsmarthomes.com
SUMMARY:EV Time of Use Rate Holiday
DESCRIPTION:In honor of Pioneer Day\, all hours of July 24\, 2025\, will be considered off peak for the EV Time of Use rate.
URL:https://wattsmarthomes.com/event/ev-time-of-use-rate-holiday-7/
CATEGORIES:Household Maintenance
ATTACH;FMTTYPE=image/jpeg:https://wattsmarthomes.com/wp-content/uploads/2024/09/Fall-Interactive-Calendar-Images-09-09-202412-scaled.jpg
END:VEVENT
END:VCALENDAR