BEGIN:VCALENDAR
VERSION:2.0
PRODID:-//Wattsmart Home - ECPv6.15.20//NONSGML v1.0//EN
CALSCALE:GREGORIAN
METHOD:PUBLISH
X-ORIGINAL-URL:https://wattsmarthomes.com
X-WR-CALDESC:Events for Wattsmart Home
REFRESH-INTERVAL;VALUE=DURATION:PT1H
X-Robots-Tag:noindex
X-PUBLISHED-TTL:PT1H
BEGIN:VTIMEZONE
TZID:America/Los_Angeles
BEGIN:DAYLIGHT
TZOFFSETFROM:-0800
TZOFFSETTO:-0700
TZNAME:PDT
DTSTART:20250309T100000
END:DAYLIGHT
BEGIN:STANDARD
TZOFFSETFROM:-0700
TZOFFSETTO:-0800
TZNAME:PST
DTSTART:20251102T090000
END:STANDARD
BEGIN:DAYLIGHT
TZOFFSETFROM:-0800
TZOFFSETTO:-0700
TZNAME:PDT
DTSTART:20260308T100000
END:DAYLIGHT
BEGIN:STANDARD
TZOFFSETFROM:-0700
TZOFFSETTO:-0800
TZNAME:PST
DTSTART:20261101T090000
END:STANDARD
BEGIN:DAYLIGHT
TZOFFSETFROM:-0800
TZOFFSETTO:-0700
TZNAME:PDT
DTSTART:20270314T100000
END:DAYLIGHT
BEGIN:STANDARD
TZOFFSETFROM:-0700
TZOFFSETTO:-0800
TZNAME:PST
DTSTART:20271107T090000
END:STANDARD
END:VTIMEZONE
BEGIN:VEVENT
DTSTART;TZID=America/Los_Angeles:20261101T080000
DTEND;TZID=America/Los_Angeles:20261101T081500
DTSTAMP:20260419T213334
CREATED:20240517T210014Z
LAST-MODIFIED:20240517T210014Z
UID:10000109-1793520000-1793520900@wattsmarthomes.com
SUMMARY:Program Your Thermostat
DESCRIPTION:Program your thermostat to lower temperatures at night for a cozier sleep.
URL:https://wattsmarthomes.com/event/program-your-thermostat-2/
CATEGORIES:Household Maintenance
ATTACH;FMTTYPE=image/jpeg:https://wattsmarthomes.com/wp-content/uploads/2024/09/Fall-Interactive-Calendar-Images-09-09-20246-scaled.jpg
END:VEVENT
BEGIN:VEVENT
DTSTART;TZID=America/Los_Angeles:20261108T080000
DTEND;TZID=America/Los_Angeles:20261108T081000
DTSTAMP:20260419T213334
CREATED:20240910T174903Z
LAST-MODIFIED:20240910T174903Z
UID:10000125-1794124800-1794125400@wattsmarthomes.com
SUMMARY:Wattsmart® Battery: Planning a Move?
DESCRIPTION:Wattsmart Battery customers need to give a 30-day advance notice if you plan to move and have the new homeowner assume the remaining agreement. Questions? Email Battery@RockyMountainPower.net
URL:https://wattsmarthomes.com/event/wattsmart-battery-planning-a-move-2/
CATEGORIES:Household Maintenance
ATTACH;FMTTYPE=image/jpeg:https://wattsmarthomes.com/wp-content/uploads/2024/09/Fall-Interactive-Calendar-Images-09-09-20249-scaled.jpg
END:VEVENT
BEGIN:VEVENT
DTSTART;TZID=America/Los_Angeles:20261126T080000
DTEND;TZID=America/Los_Angeles:20261126T080500
DTSTAMP:20260419T213334
CREATED:20240910T152811Z
LAST-MODIFIED:20240910T152811Z
UID:10000121-1795680000-1795680300@wattsmarthomes.com
SUMMARY:EV Time of Use Rate Holiday
DESCRIPTION:In honor of Thanksgiving Day\, all hours of November 26\, 2026\, will be considered off peak for the EV Time of Use rate.
URL:https://wattsmarthomes.com/event/ev-time-of-use-rate-holiday-9-2/
CATEGORIES:Household Maintenance
ATTACH;FMTTYPE=:
END:VEVENT
END:VCALENDAR