BEGIN:VCALENDAR
VERSION:2.0
PRODID:-//Wattsmart Home - ECPv6.15.20//NONSGML v1.0//EN
CALSCALE:GREGORIAN
METHOD:PUBLISH
X-WR-CALNAME:Wattsmart Home
X-ORIGINAL-URL:https://wattsmarthomes.com
X-WR-CALDESC:Events for Wattsmart Home
REFRESH-INTERVAL;VALUE=DURATION:PT1H
X-Robots-Tag:noindex
X-PUBLISHED-TTL:PT1H
BEGIN:VTIMEZONE
TZID:America/Los_Angeles
BEGIN:DAYLIGHT
TZOFFSETFROM:-0800
TZOFFSETTO:-0700
TZNAME:PDT
DTSTART:20250309T100000
END:DAYLIGHT
BEGIN:STANDARD
TZOFFSETFROM:-0700
TZOFFSETTO:-0800
TZNAME:PST
DTSTART:20251102T090000
END:STANDARD
BEGIN:DAYLIGHT
TZOFFSETFROM:-0800
TZOFFSETTO:-0700
TZNAME:PDT
DTSTART:20260308T100000
END:DAYLIGHT
BEGIN:STANDARD
TZOFFSETFROM:-0700
TZOFFSETTO:-0800
TZNAME:PST
DTSTART:20261101T090000
END:STANDARD
BEGIN:DAYLIGHT
TZOFFSETFROM:-0800
TZOFFSETTO:-0700
TZNAME:PDT
DTSTART:20270314T100000
END:DAYLIGHT
BEGIN:STANDARD
TZOFFSETFROM:-0700
TZOFFSETTO:-0800
TZNAME:PST
DTSTART:20271107T090000
END:STANDARD
END:VTIMEZONE
BEGIN:VEVENT
DTSTART;TZID=America/Los_Angeles:20261004T080000
DTEND;TZID=America/Los_Angeles:20261004T081500
DTSTAMP:20260419T194505
CREATED:20240517T205649Z
LAST-MODIFIED:20240517T205649Z
UID:10000107-1791100800-1791101700@wattsmarthomes.com
SUMMARY:Prevent Ice Buildup in Winter
DESCRIPTION:Prevent ice buildup in preparation for winter: Inspect or install heat tape and heat tape timers. Get your heat tape timer rebate.
URL:https://wattsmarthomes.com/event/prevent-ice-buildup-in-winter-2/
CATEGORIES:Household Maintenance
ATTACH;FMTTYPE=image/jpeg:https://wattsmarthomes.com/wp-content/uploads/2024/09/Fall-Interactive-Calendar-Images-09-09-20244-scaled.jpg
END:VEVENT
BEGIN:VEVENT
DTSTART;TZID=America/Los_Angeles:20261018T080000
DTEND;TZID=America/Los_Angeles:20261018T080500
DTSTAMP:20260419T194505
CREATED:20240517T205908Z
LAST-MODIFIED:20240517T205908Z
UID:10000108-1792310400-1792310700@wattsmarthomes.com
SUMMARY:Inspect Insulation
DESCRIPTION:Inspect insulation: Ensure your home is properly insulated\, especially in the attic or crawl space. Be sure to check the ductwork in both places\, assess for air leaks and have them sealed and insulated.
URL:https://wattsmarthomes.com/event/inspect-insulation-2/
CATEGORIES:Household Maintenance
ATTACH;FMTTYPE=image/jpeg:https://wattsmarthomes.com/wp-content/uploads/2024/09/Fall-Interactive-Calendar-Images-09-09-20245-scaled.jpg
END:VEVENT
BEGIN:VEVENT
DTSTART;TZID=America/Los_Angeles:20261025T080000
DTEND;TZID=America/Los_Angeles:20261025T081000
DTSTAMP:20260419T194505
CREATED:20240910T174343Z
LAST-MODIFIED:20240910T174343Z
UID:10000124-1792915200-1792915800@wattsmarthomes.com
SUMMARY:Wattsmart® Battery: Are You Connected?
DESCRIPTION:It’s time for Wattsmart Battery customers to check your battery’s Wi-Fi connection. This ensures that your battery is online and working as expected. Remember to always keep your battery online.
URL:https://wattsmarthomes.com/event/wattsmart-battery-are-you-connected-2/
CATEGORIES:Household Maintenance
ATTACH;FMTTYPE=image/jpeg:https://wattsmarthomes.com/wp-content/uploads/2024/09/Fall-Interactive-Calendar-Images-09-09-202411-scaled.jpg
END:VEVENT
END:VCALENDAR