BEGIN:VCALENDAR
VERSION:2.0
PRODID:-//Wattsmart Home - ECPv6.15.20//NONSGML v1.0//EN
CALSCALE:GREGORIAN
METHOD:PUBLISH
X-ORIGINAL-URL:https://wattsmarthomes.com
X-WR-CALDESC:Events for Wattsmart Home
REFRESH-INTERVAL;VALUE=DURATION:PT1H
X-Robots-Tag:noindex
X-PUBLISHED-TTL:PT1H
BEGIN:VTIMEZONE
TZID:America/Los_Angeles
BEGIN:DAYLIGHT
TZOFFSETFROM:-0800
TZOFFSETTO:-0700
TZNAME:PDT
DTSTART:20240310T100000
END:DAYLIGHT
BEGIN:STANDARD
TZOFFSETFROM:-0700
TZOFFSETTO:-0800
TZNAME:PST
DTSTART:20241103T090000
END:STANDARD
BEGIN:DAYLIGHT
TZOFFSETFROM:-0800
TZOFFSETTO:-0700
TZNAME:PDT
DTSTART:20250309T100000
END:DAYLIGHT
BEGIN:STANDARD
TZOFFSETFROM:-0700
TZOFFSETTO:-0800
TZNAME:PST
DTSTART:20251102T090000
END:STANDARD
BEGIN:DAYLIGHT
TZOFFSETFROM:-0800
TZOFFSETTO:-0700
TZNAME:PDT
DTSTART:20260308T100000
END:DAYLIGHT
BEGIN:STANDARD
TZOFFSETFROM:-0700
TZOFFSETTO:-0800
TZNAME:PST
DTSTART:20261101T090000
END:STANDARD
END:VTIMEZONE
BEGIN:VEVENT
DTSTART;TZID=America/Los_Angeles:20250501T080000
DTEND;TZID=America/Los_Angeles:20250501T081000
DTSTAMP:20260422T071010
CREATED:20240910T181704Z
LAST-MODIFIED:20240910T181704Z
UID:10000063-1746086400-1746087000@wattsmarthomes.com
SUMMARY:EV Time of Use Rate Users: Peak Times Change Today
DESCRIPTION:Starting today\, there is only one peak hour time period: 3 p.m. – 8 p.m. All other hours will be considered off peak. Avoid charging your electric vehicle and using other equipment during peak hours.
URL:https://wattsmarthomes.com/event/ev-time-of-use-rate-users-peak-times-change-today-2/
CATEGORIES:Household Maintenance
ATTACH;FMTTYPE=image/jpeg:https://wattsmarthomes.com/wp-content/uploads/2024/09/Fall-Interactive-Calendar-Images-09-09-202410-scaled.jpg
END:VEVENT
BEGIN:VEVENT
DTSTART;TZID=America/Los_Angeles:20250501T080000
DTEND;TZID=America/Los_Angeles:20250501T081000
DTSTAMP:20260422T071010
CREATED:20240910T181704Z
LAST-MODIFIED:20240910T181704Z
UID:10000126-1746086400-1746087000@wattsmarthomes.com
SUMMARY:EV Time of Use Rate Users: Peak Times Change Today
DESCRIPTION:Starting today\, there is only one peak hour time period: 3 p.m. – 8 p.m. All other hours will be considered off peak. Avoid charging your electric vehicle and using other equipment during peak hours.
URL:https://wattsmarthomes.com/event/ev-time-of-use-rate-users-peak-times-change-today-2-2/
CATEGORIES:Household Maintenance
ATTACH;FMTTYPE=image/jpeg:https://wattsmarthomes.com/wp-content/uploads/2024/09/Fall-Interactive-Calendar-Images-09-09-202410-scaled.jpg
END:VEVENT
BEGIN:VEVENT
DTSTART;TZID=America/Los_Angeles:20250503T080000
DTEND;TZID=America/Los_Angeles:20250503T081500
DTSTAMP:20260422T071010
CREATED:20240301T152209Z
LAST-MODIFIED:20250311T191139Z
UID:10000030-1746259200-1746260100@wattsmarthomes.com
SUMMARY:Regularly Clean and Replace Filters
DESCRIPTION:Regularly clean and replace filters. Protect your health and save energy by cleaning or replacing HVAC and water filters on schedule or as needed. 
URL:https://wattsmarthomes.com/event/regularly-clean-and-replace-filters/
CATEGORIES:Household Maintenance
ATTACH;FMTTYPE=image/jpeg:https://wattsmarthomes.com/wp-content/uploads/2024/03/Spring23-Interactive-Calendar-Images5-scaled.jpg
END:VEVENT
BEGIN:VEVENT
DTSTART;TZID=America/Los_Angeles:20250517T080000
DTEND;TZID=America/Los_Angeles:20250517T081500
DTSTAMP:20260422T071010
CREATED:20240301T152309Z
LAST-MODIFIED:20250311T191217Z
UID:10000031-1747468800-1747469700@wattsmarthomes.com
SUMMARY:Find a Trade Ally
DESCRIPTION:Our trade allies are experts at energy efficiency and Wattsmart rebates. Find a local trade ally for advice and energy-efficient project installation.
URL:https://wattsmarthomes.com/event/find-a-trade-ally/
CATEGORIES:Household Maintenance
ATTACH;FMTTYPE=image/jpeg:https://wattsmarthomes.com/wp-content/uploads/2024/03/Spring23-Interactive-Calendar-Images6-scaled.jpg
END:VEVENT
BEGIN:VEVENT
DTSTART;TZID=America/Los_Angeles:20250526T080000
DTEND;TZID=America/Los_Angeles:20250526T081500
DTSTAMP:20260422T071010
CREATED:20240910T152115Z
LAST-MODIFIED:20240910T152115Z
UID:10000054-1748246400-1748247300@wattsmarthomes.com
SUMMARY:EV Time of Use Rate Holiday
DESCRIPTION:In honor of Memorial Day\, all hours of May 26\, 2025\, will be considered off peak for the EV Time of Use rate.
URL:https://wattsmarthomes.com/event/ev-time-of-use-rate-holiday-5/
CATEGORIES:Household Maintenance
ATTACH;FMTTYPE=image/jpeg:https://wattsmarthomes.com/wp-content/uploads/2024/09/Fall-Interactive-Calendar-Images-09-09-202412-scaled.jpg
END:VEVENT
END:VCALENDAR