BEGIN:VCALENDAR
VERSION:2.0
PRODID:-//Wattsmart Home - ECPv6.15.20//NONSGML v1.0//EN
CALSCALE:GREGORIAN
METHOD:PUBLISH
X-ORIGINAL-URL:https://wattsmarthomes.com
X-WR-CALDESC:Events for Wattsmart Home
REFRESH-INTERVAL;VALUE=DURATION:PT1H
X-Robots-Tag:noindex
X-PUBLISHED-TTL:PT1H
BEGIN:VTIMEZONE
TZID:America/Los_Angeles
BEGIN:DAYLIGHT
TZOFFSETFROM:-0800
TZOFFSETTO:-0700
TZNAME:PDT
DTSTART:20240310T100000
END:DAYLIGHT
BEGIN:STANDARD
TZOFFSETFROM:-0700
TZOFFSETTO:-0800
TZNAME:PST
DTSTART:20241103T090000
END:STANDARD
BEGIN:DAYLIGHT
TZOFFSETFROM:-0800
TZOFFSETTO:-0700
TZNAME:PDT
DTSTART:20250309T100000
END:DAYLIGHT
BEGIN:STANDARD
TZOFFSETFROM:-0700
TZOFFSETTO:-0800
TZNAME:PST
DTSTART:20251102T090000
END:STANDARD
BEGIN:DAYLIGHT
TZOFFSETFROM:-0800
TZOFFSETTO:-0700
TZNAME:PDT
DTSTART:20260308T100000
END:DAYLIGHT
BEGIN:STANDARD
TZOFFSETFROM:-0700
TZOFFSETTO:-0800
TZNAME:PST
DTSTART:20261101T090000
END:STANDARD
END:VTIMEZONE
BEGIN:VEVENT
DTSTART;TZID=America/Los_Angeles:20250405T080000
DTEND;TZID=America/Los_Angeles:20250405T081500
DTSTAMP:20260422T085307
CREATED:20240301T151955Z
LAST-MODIFIED:20250228T192734Z
UID:10000028-1743840000-1743840900@wattsmarthomes.com
SUMMARY:Plant Shade Trees
DESCRIPTION:Plant shade trees. By strategically planting trees\, you can take advantage of natural shading to keep your home cool.
URL:https://wattsmarthomes.com/event/plant-shade-trees/
CATEGORIES:Household Maintenance
ATTACH;FMTTYPE=image/jpeg:https://wattsmarthomes.com/wp-content/uploads/2024/03/Spring23-Interactive-Calendar-Images7-scaled.jpg
END:VEVENT
BEGIN:VEVENT
DTSTART;TZID=America/Los_Angeles:20250419T080000
DTEND;TZID=America/Los_Angeles:20250419T081500
DTSTAMP:20260422T085307
CREATED:20240301T152109Z
LAST-MODIFIED:20250228T192841Z
UID:10000029-1745049600-1745050500@wattsmarthomes.com
SUMMARY:Set Your Water Heater to 120° F
DESCRIPTION:Water heaters are big energy consumers. Set your water heater to 120° F and use efficient showerheads to save energy.
URL:https://wattsmarthomes.com/event/set-your-water-heater-to-120-f/
CATEGORIES:Household Maintenance
ATTACH;FMTTYPE=image/jpeg:https://wattsmarthomes.com/wp-content/uploads/2024/03/Spring23-Interactive-Calendar-Images4-scaled.jpg
END:VEVENT
END:VCALENDAR