BEGIN:VCALENDAR
VERSION:2.0
PRODID:-//Wattsmart Home - ECPv6.15.20//NONSGML v1.0//EN
CALSCALE:GREGORIAN
METHOD:PUBLISH
X-ORIGINAL-URL:https://wattsmarthomes.com
X-WR-CALDESC:Events for Wattsmart Home
REFRESH-INTERVAL;VALUE=DURATION:PT1H
X-Robots-Tag:noindex
X-PUBLISHED-TTL:PT1H
BEGIN:VTIMEZONE
TZID:America/Los_Angeles
BEGIN:DAYLIGHT
TZOFFSETFROM:-0800
TZOFFSETTO:-0700
TZNAME:PDT
DTSTART:20240310T100000
END:DAYLIGHT
BEGIN:STANDARD
TZOFFSETFROM:-0700
TZOFFSETTO:-0800
TZNAME:PST
DTSTART:20241103T090000
END:STANDARD
BEGIN:DAYLIGHT
TZOFFSETFROM:-0800
TZOFFSETTO:-0700
TZNAME:PDT
DTSTART:20250309T100000
END:DAYLIGHT
BEGIN:STANDARD
TZOFFSETFROM:-0700
TZOFFSETTO:-0800
TZNAME:PST
DTSTART:20251102T090000
END:STANDARD
BEGIN:DAYLIGHT
TZOFFSETFROM:-0800
TZOFFSETTO:-0700
TZNAME:PDT
DTSTART:20260308T100000
END:DAYLIGHT
BEGIN:STANDARD
TZOFFSETFROM:-0700
TZOFFSETTO:-0800
TZNAME:PST
DTSTART:20261101T090000
END:STANDARD
END:VTIMEZONE
BEGIN:VEVENT
DTSTART;TZID=America/Los_Angeles:20250101T080000
DTEND;TZID=America/Los_Angeles:20250101T081500
DTSTAMP:20260424T045628
CREATED:20240910T151803Z
LAST-MODIFIED:20240910T151803Z
UID:1470-1735718400-1735719300@wattsmarthomes.com
SUMMARY:EV Time of Use Rate Holiday
DESCRIPTION:In honor of New Year’s Day\, all hours of January 1\, 2025\, will be considered off peak for the EV Time of Use rate.
URL:https://wattsmarthomes.com/event/ev-time-of-use-rate-holiday-3/
CATEGORIES:Household Maintenance
ATTACH;FMTTYPE=image/jpeg:https://wattsmarthomes.com/wp-content/uploads/2024/09/Fall-Interactive-Calendar-Images-09-09-202412-scaled.jpg
END:VEVENT
BEGIN:VEVENT
DTSTART;TZID=America/Los_Angeles:20250101T080000
DTEND;TZID=America/Los_Angeles:20250101T081500
DTSTAMP:20260424T045628
CREATED:20240910T151803Z
LAST-MODIFIED:20240910T151803Z
UID:10102-1735718400-1735719300@wattsmarthomes.com
SUMMARY:EV Time of Use Rate Holiday
DESCRIPTION:In honor of New Year’s Day\, all hours of January 1\, 2025\, will be considered off peak for the EV Time of Use rate.
URL:https://wattsmarthomes.com/event/ev-time-of-use-rate-holiday-3-2/
CATEGORIES:Household Maintenance
ATTACH;FMTTYPE=image/jpeg:https://wattsmarthomes.com/wp-content/uploads/2024/09/Fall-Interactive-Calendar-Images-09-09-202412-scaled.jpg
END:VEVENT
BEGIN:VEVENT
DTSTART;TZID=America/Los_Angeles:20250106T080000
DTEND;TZID=America/Los_Angeles:20250106T081000
DTSTAMP:20260424T045628
CREATED:20231005T143148Z
LAST-MODIFIED:20241206T204704Z
UID:1036-1736150400-1736151000@wattsmarthomes.com
SUMMARY:Reverse Ceiling Fans
DESCRIPTION:Reverse Ceiling Fans. Set your fans to rotate clockwise. This simple strategy will push the warm air down to reduce energy use and keep you cozier. \n 
URL:https://wattsmarthomes.com/event/reverse-ceiling-fans/
CATEGORIES:Household Maintenance
ATTACH;FMTTYPE=image/jpeg:https://wattsmarthomes.com/wp-content/uploads/2023/10/Interactive-Calendar-Images8.jpg
END:VEVENT
BEGIN:VEVENT
DTSTART;TZID=America/Los_Angeles:20250113T080000
DTEND;TZID=America/Los_Angeles:20250113T081000
DTSTAMP:20260424T045628
CREATED:20231004T200407Z
LAST-MODIFIED:20241206T205006Z
UID:859-1736755200-1736755800@wattsmarthomes.com
SUMMARY:Insulate Your Water Heater
DESCRIPTION:Insulate Your Tank-Style Water Heater. Wrapping a water heater insulation blanket around your tank will reduce heat loss and save money on energy bills. Consider installing a heat pump water heater for efficiency. \n 
URL:https://wattsmarthomes.com/event/insulate-your-water-heater/
CATEGORIES:Household Maintenance
ATTACH;FMTTYPE=image/jpeg:https://wattsmarthomes.com/wp-content/uploads/2023/10/Interactive-Calendar-Images4-1.jpg
END:VEVENT
BEGIN:VEVENT
DTSTART;TZID=America/Los_Angeles:20250120T080000
DTEND;TZID=America/Los_Angeles:20250120T081000
DTSTAMP:20260424T045628
CREATED:20231004T222626Z
LAST-MODIFIED:20241206T213101Z
UID:864-1737360000-1737360600@wattsmarthomes.com
SUMMARY:Use Countertop Appliances to Cook
DESCRIPTION:Use Countertop Appliances to Cook. A toaster oven\, convection oven and air fryer use one-third to one-half as much energy as a full-sized oven\, and slow cookers are very efficient when making soups or stews. \n 
URL:https://wattsmarthomes.com/event/use-countertop-appliances-to-cook/
CATEGORIES:Household Maintenance
ATTACH;FMTTYPE=image/jpeg:https://wattsmarthomes.com/wp-content/uploads/2023/10/Interactive-Calendar-Images7.jpg
END:VEVENT
BEGIN:VEVENT
DTSTART;TZID=America/Los_Angeles:20250120T080000
DTEND;TZID=America/Los_Angeles:20250120T081000
DTSTAMP:20260424T045628
CREATED:20231004T222626Z
LAST-MODIFIED:20231004T222626Z
UID:10055-1737360000-1737360600@wattsmarthomes.com
SUMMARY:Use Countertop Appliances to Cook
DESCRIPTION:Use Countertop Appliances to Cook. A toaster oven\, convection oven and air fryer use one-third to one-half as much energy as a full-sized oven\, and slow cookers are very efficient when making soups or stews. \n 
URL:https://wattsmarthomes.com/event/use-countertop-appliances-to-cook-2/
CATEGORIES:Household Maintenance
ATTACH;FMTTYPE=image/jpeg:https://wattsmarthomes.com/wp-content/uploads/2023/10/Interactive-Calendar-Images7.jpg
END:VEVENT
BEGIN:VEVENT
DTSTART;TZID=America/Los_Angeles:20250127T080000
DTEND;TZID=America/Los_Angeles:20250127T081000
DTSTAMP:20260424T045628
CREATED:20231005T143332Z
LAST-MODIFIED:20241206T213253Z
UID:868-1737964800-1737965400@wattsmarthomes.com
SUMMARY:Consider Installing a Heat Pump 
DESCRIPTION:Consider Installing a Heat Pump. A heat pump both heats and cools your home\, improves indoor air quality and is more energy efficient than traditional HVAC equipment. To learn more\, head to www.wattsmart.com and visit our news page to listen to the radio interview on heat pump benefits.   \n 
URL:https://wattsmarthomes.com/event/consider-installing-a-heat-pump/
CATEGORIES:Household Maintenance
ATTACH;FMTTYPE=image/jpeg:https://wattsmarthomes.com/wp-content/uploads/2023/10/Interactive-Calendar-Images5.jpg
END:VEVENT
END:VCALENDAR