BEGIN:VCALENDAR
VERSION:2.0
PRODID:-//Wattsmart Home - ECPv6.15.20//NONSGML v1.0//EN
CALSCALE:GREGORIAN
METHOD:PUBLISH
X-WR-CALNAME:Wattsmart Home
X-ORIGINAL-URL:https://wattsmarthomes.com
X-WR-CALDESC:Events for Wattsmart Home
REFRESH-INTERVAL;VALUE=DURATION:PT1H
X-Robots-Tag:noindex
X-PUBLISHED-TTL:PT1H
BEGIN:VTIMEZONE
TZID:America/Los_Angeles
BEGIN:DAYLIGHT
TZOFFSETFROM:-0800
TZOFFSETTO:-0700
TZNAME:PDT
DTSTART:20230312T100000
END:DAYLIGHT
BEGIN:STANDARD
TZOFFSETFROM:-0700
TZOFFSETTO:-0800
TZNAME:PST
DTSTART:20231105T090000
END:STANDARD
BEGIN:DAYLIGHT
TZOFFSETFROM:-0800
TZOFFSETTO:-0700
TZNAME:PDT
DTSTART:20240310T100000
END:DAYLIGHT
BEGIN:STANDARD
TZOFFSETFROM:-0700
TZOFFSETTO:-0800
TZNAME:PST
DTSTART:20241103T090000
END:STANDARD
BEGIN:DAYLIGHT
TZOFFSETFROM:-0800
TZOFFSETTO:-0700
TZNAME:PDT
DTSTART:20250309T100000
END:DAYLIGHT
BEGIN:STANDARD
TZOFFSETFROM:-0700
TZOFFSETTO:-0800
TZNAME:PST
DTSTART:20251102T090000
END:STANDARD
END:VTIMEZONE
BEGIN:VEVENT
DTSTART;TZID=America/Los_Angeles:20241209T080000
DTEND;TZID=America/Los_Angeles:20241209T081000
DTSTAMP:20260424T063629
CREATED:20231004T152047Z
LAST-MODIFIED:20241206T165753Z
UID:10000001-1733731200-1733731800@wattsmarthomes.com
SUMMARY:Seal Ducts
DESCRIPTION:Seal Ducts. Leaks in your ductwork can waste energy. Seal them using duct tape or mastic. Find out how at https://www.energystar.gov/saveathome/heating_cooling/duct_sealing \n 
URL:https://wattsmarthomes.com/event/seal-ducts/
CATEGORIES:Household Maintenance
ATTACH;FMTTYPE=image/jpeg:https://wattsmarthomes.com/wp-content/uploads/2023/10/Interactive-Calendar-Images.jpg
END:VEVENT
BEGIN:VEVENT
DTSTART;TZID=America/Los_Angeles:20241209T080000
DTEND;TZID=America/Los_Angeles:20241209T081000
DTSTAMP:20260424T063629
CREATED:20231004T152047Z
LAST-MODIFIED:20231004T152047Z
UID:10000065-1733731200-1733731800@wattsmarthomes.com
SUMMARY:Seal Ducts
DESCRIPTION:Seal Ducts. Leaks in your ductwork can waste energy. Seal them using duct tape or mastic. Find out how at https://www.energystar.gov/saveathome/heating_cooling/duct_sealing \n 
URL:https://wattsmarthomes.com/event/seal-ducts-2/
CATEGORIES:Household Maintenance
ATTACH;FMTTYPE=image/jpeg:https://wattsmarthomes.com/wp-content/uploads/2023/10/Interactive-Calendar-Images.jpg
END:VEVENT
BEGIN:VEVENT
DTSTART;TZID=America/Los_Angeles:20241212T080000
DTEND;TZID=America/Los_Angeles:20241212T081000
DTSTAMP:20260424T063629
CREATED:20231117T172418Z
LAST-MODIFIED:20241209T184241Z
UID:10000014-1733990400-1733991000@wattsmarthomes.com
SUMMARY:Enter to Win (if you haven't)
DESCRIPTION:If you haven’t done so yet\, subscribe to our calendar for your chance to win a $100 gift card! We’ll pick a new winner each season. Subscribe before February 28\, 2025\, for your chance to win the Winter Season Gift Card! \nWinter Contest Entry Form – Wattsmart Home/
URL:https://wattsmarthomes.com/event/enter-to-win-if-you-havent-2/
CATEGORIES:Household Maintenance
ATTACH;FMTTYPE=image/jpeg:https://wattsmarthomes.com/wp-content/uploads/2023/11/Interactive-Calendar-Images12-2048x1365-2.jpg
END:VEVENT
BEGIN:VEVENT
DTSTART;TZID=America/Los_Angeles:20241212T080000
DTEND;TZID=America/Los_Angeles:20241212T081000
DTSTAMP:20260424T063629
CREATED:20231117T172418Z
LAST-MODIFIED:20231117T172418Z
UID:10000077-1733990400-1733991000@wattsmarthomes.com
SUMMARY:Enter to Win (if you haven't)
DESCRIPTION:If you haven’t done so yet\, subscribe to our calendar for your chance to win a $100 gift card! We’ll pick a new winner each season. Subscribe before February 28\, 2025\, for your chance to win the Winter Season Gift Card! \nWinter Contest Entry Form – Wattsmart Home/
URL:https://wattsmarthomes.com/event/enter-to-win-if-you-havent-2-2/
CATEGORIES:Household Maintenance
ATTACH;FMTTYPE=image/jpeg:https://wattsmarthomes.com/wp-content/uploads/2023/11/Interactive-Calendar-Images12-2048x1365-2.jpg
END:VEVENT
BEGIN:VEVENT
DTSTART;TZID=America/Los_Angeles:20241220T080000
DTEND;TZID=America/Los_Angeles:20241220T081000
DTSTAMP:20260424T063629
CREATED:20231115T215705Z
LAST-MODIFIED:20241212T185058Z
UID:10000013-1734681600-1734682200@wattsmarthomes.com
SUMMARY:Enter to Win (if you haven't)
DESCRIPTION:If you haven’t done so yet\, subscribe to our calendar for your chance to win a $100 gift card! We’ll pick a new winner each season. Subscribe before February 28\, 2025\, for your chance to win the Winter Season Gift Card! \nhttps://s47982.p1173.sites.pressdns.comwinter-contest-entry-form/
URL:https://wattsmarthomes.com/event/enter-to-win-if-you-havent/
CATEGORIES:Household Maintenance
ATTACH;FMTTYPE=image/jpeg:https://wattsmarthomes.com/wp-content/uploads/2023/11/Interactive-Calendar-Images12-2048x1365-2.jpg
END:VEVENT
BEGIN:VEVENT
DTSTART;TZID=America/Los_Angeles:20241220T080000
DTEND;TZID=America/Los_Angeles:20241220T081000
DTSTAMP:20260424T063629
CREATED:20231115T215705Z
LAST-MODIFIED:20231115T215705Z
UID:10000076-1734681600-1734682200@wattsmarthomes.com
SUMMARY:Enter to Win (if you haven't)
DESCRIPTION:If you haven’t done so yet\, subscribe to our calendar for your chance to win a $100 gift card! We’ll pick a new winner each season. Subscribe before February 28\, 2025\, for your chance to win the Winter Season Gift Card! \nWinter 2025-26 Contest Entry Form
URL:https://wattsmarthomes.com/event/enter-to-win-if-you-havent-13/
CATEGORIES:Household Maintenance
ATTACH;FMTTYPE=image/jpeg:https://wattsmarthomes.com/wp-content/uploads/2023/11/Interactive-Calendar-Images12-2048x1365-2.jpg
END:VEVENT
BEGIN:VEVENT
DTSTART;TZID=America/Los_Angeles:20241225T080000
DTEND;TZID=America/Los_Angeles:20241225T081500
DTSTAMP:20260424T063629
CREATED:20240910T150533Z
LAST-MODIFIED:20240910T150617Z
UID:10000049-1735113600-1735114500@wattsmarthomes.com
SUMMARY:EV Time of Use Rate Holiday
DESCRIPTION:In honor of Christmas Day\, all hours of December 25\, 2024\, will be considered off peak for the EV Time of Use rate.
URL:https://wattsmarthomes.com/event/ev-time-of-use-rate-holiday/
CATEGORIES:Household Maintenance
ATTACH;FMTTYPE=image/jpeg:https://wattsmarthomes.com/wp-content/uploads/2024/09/Fall-Interactive-Calendar-Images-09-09-202412-scaled.jpg
END:VEVENT
BEGIN:VEVENT
DTSTART;TZID=America/Los_Angeles:20241225T080000
DTEND;TZID=America/Los_Angeles:20241225T081500
DTSTAMP:20260424T063629
CREATED:20240910T150533Z
LAST-MODIFIED:20240910T150533Z
UID:10000112-1735113600-1735114500@wattsmarthomes.com
SUMMARY:EV Time of Use Rate Holiday
DESCRIPTION:In honor of Christmas Day\, all hours of December 25\, 2024\, will be considered off peak for the EV Time of Use rate.
URL:https://wattsmarthomes.com/event/ev-time-of-use-rate-holiday-11/
CATEGORIES:Household Maintenance
ATTACH;FMTTYPE=image/jpeg:https://wattsmarthomes.com/wp-content/uploads/2024/09/Fall-Interactive-Calendar-Images-09-09-202412-scaled.jpg
END:VEVENT
END:VCALENDAR