BEGIN:VCALENDAR
VERSION:2.0
PRODID:-//Wattsmart Home - ECPv6.15.20//NONSGML v1.0//EN
CALSCALE:GREGORIAN
METHOD:PUBLISH
X-WR-CALNAME:Wattsmart Home
X-ORIGINAL-URL:https://wattsmarthomes.com
X-WR-CALDESC:Events for Wattsmart Home
REFRESH-INTERVAL;VALUE=DURATION:PT1H
X-Robots-Tag:noindex
X-PUBLISHED-TTL:PT1H
BEGIN:VTIMEZONE
TZID:America/Los_Angeles
BEGIN:DAYLIGHT
TZOFFSETFROM:-0800
TZOFFSETTO:-0700
TZNAME:PDT
DTSTART:20230312T100000
END:DAYLIGHT
BEGIN:STANDARD
TZOFFSETFROM:-0700
TZOFFSETTO:-0800
TZNAME:PST
DTSTART:20231105T090000
END:STANDARD
BEGIN:DAYLIGHT
TZOFFSETFROM:-0800
TZOFFSETTO:-0700
TZNAME:PDT
DTSTART:20240310T100000
END:DAYLIGHT
BEGIN:STANDARD
TZOFFSETFROM:-0700
TZOFFSETTO:-0800
TZNAME:PST
DTSTART:20241103T090000
END:STANDARD
BEGIN:DAYLIGHT
TZOFFSETFROM:-0800
TZOFFSETTO:-0700
TZNAME:PDT
DTSTART:20250309T100000
END:DAYLIGHT
BEGIN:STANDARD
TZOFFSETFROM:-0700
TZOFFSETTO:-0800
TZNAME:PST
DTSTART:20251102T090000
END:STANDARD
END:VTIMEZONE
BEGIN:VEVENT
DTSTART;TZID=America/Los_Angeles:20241128T080000
DTEND;TZID=America/Los_Angeles:20241128T081500
DTSTAMP:20260424T085212
CREATED:20240910T151603Z
LAST-MODIFIED:20240910T151603Z
UID:10000051-1732780800-1732781700@wattsmarthomes.com
SUMMARY:EV Time of Use Rate Holiday
DESCRIPTION:In honor of Thanksgiving Day\, all hours of November 28\, 2024\, will be considered off peak for the EV Time of Use rate.
URL:https://wattsmarthomes.com/event/ev-time-of-use-rate-holiday-2/
CATEGORIES:Household Maintenance
ATTACH;FMTTYPE=image/jpeg:https://wattsmarthomes.com/wp-content/uploads/2024/09/Fall-Interactive-Calendar-Images-09-09-202412-scaled.jpg
END:VEVENT
BEGIN:VEVENT
DTSTART;TZID=America/Los_Angeles:20241128T080000
DTEND;TZID=America/Los_Angeles:20241128T081500
DTSTAMP:20260424T085212
CREATED:20240910T151603Z
LAST-MODIFIED:20240910T151603Z
UID:10000114-1732780800-1732781700@wattsmarthomes.com
SUMMARY:EV Time of Use Rate Holiday
DESCRIPTION:In honor of Thanksgiving Day\, all hours of November 28\, 2024\, will be considered off peak for the EV Time of Use rate.
URL:https://wattsmarthomes.com/event/ev-time-of-use-rate-holiday-2-2/
CATEGORIES:Household Maintenance
ATTACH;FMTTYPE=image/jpeg:https://wattsmarthomes.com/wp-content/uploads/2024/09/Fall-Interactive-Calendar-Images-09-09-202412-scaled.jpg
END:VEVENT
END:VCALENDAR